BEGIN:VCALENDAR
VERSION:2.0
PRODID:-//FIVE MEN ON THE ROCKS - ECPv6.15.18//NONSGML v1.0//EN
CALSCALE:GREGORIAN
METHOD:PUBLISH
X-WR-CALNAME:FIVE MEN ON THE ROCKS
X-ORIGINAL-URL:https://fivemen.de
X-WR-CALDESC:Veranstaltungen für FIVE MEN ON THE ROCKS
REFRESH-INTERVAL;VALUE=DURATION:PT1H
X-Robots-Tag:noindex
X-PUBLISHED-TTL:PT1H
BEGIN:VTIMEZONE
TZID:Europe/Berlin
BEGIN:DAYLIGHT
TZOFFSETFROM:+0100
TZOFFSETTO:+0200
TZNAME:CEST
DTSTART:20250330T010000
END:DAYLIGHT
BEGIN:STANDARD
TZOFFSETFROM:+0200
TZOFFSETTO:+0100
TZNAME:CET
DTSTART:20251026T010000
END:STANDARD
BEGIN:DAYLIGHT
TZOFFSETFROM:+0100
TZOFFSETTO:+0200
TZNAME:CEST
DTSTART:20260329T010000
END:DAYLIGHT
BEGIN:STANDARD
TZOFFSETFROM:+0200
TZOFFSETTO:+0100
TZNAME:CET
DTSTART:20261025T010000
END:STANDARD
BEGIN:DAYLIGHT
TZOFFSETFROM:+0100
TZOFFSETTO:+0200
TZNAME:CEST
DTSTART:20270328T010000
END:DAYLIGHT
BEGIN:STANDARD
TZOFFSETFROM:+0200
TZOFFSETTO:+0100
TZNAME:CET
DTSTART:20271031T010000
END:STANDARD
END:VTIMEZONE
BEGIN:VEVENT
DTSTART;TZID=Europe/Berlin:20260801T180000
DTEND;TZID=Europe/Berlin:20260801T223000
DTSTAMP:20260421T212237
CREATED:20251111T081757Z
LAST-MODIFIED:20251111T082930Z
UID:1756-1785607200-1785623400@fivemen.de
SUMMARY:Rotary rockt
DESCRIPTION:Die Band spielt Gitarrenrock überwiegend der 70-ger Jahre. Von reichlich AC/DC\, Deep\nPurple\, van Halen\, Led Zeppelin\, Golden Earring\, Pink Floyd\, Garry Moore bis hin zu\neigenen Songs klingt alles\, wie aus einem Stück geschmiedet\, eben unverkennbar nach\n„five men on the rocks“.\nOb auf großen open- air Veranstaltungen\, bei der Club-Mugge\, oder zu privaten Anlässen\, es\ngibt immer 120%. Davon konnten sich auch im Jahre 2006 Deep Purple überzeugen\, denen\n„five men on the rocks“ als Support „dienen“ durfte.\nBesonders prägend für den Sound der Band ist die Stimme des charismatischen Frontmannes\nJan „Lally“ Gladrow. Mit geschlossenen Augen meint man\, der Sänger der Australischen\nGleichstrom/Wechselstrom- Urgesteine hätte sich für diese Rostocker Band entschieden…\nDie gesamte Show ist aber teamwork und es wird gemeinsam geschwitzt\, gedroschen\,\nexplodiert\, gefühlt\, zelebriert\, Musik gelebt…\n“five men on the rocks “ sind:\nJan Gladrow Gesang\nJohannes Pistor Gitarre\, Gesang\nDietmar Lilienthal Gitarre\nThomas Lehner Bassgitarre\, Gesang\nJan Wüstenberg Schlagzeug
URL:https://fivemen.de/event/rotary-rockt-4/
LOCATION:Konzertgarten West\, Ostseebad Kühlungsborn
ATTACH;FMTTYPE=image/jpeg:https://fivemen.de/wp-content/uploads/2023/08/b11a8953-2c5c-49b0-961b-d7723ab2223e.jpg
END:VEVENT
BEGIN:VEVENT
DTSTART;TZID=Europe/Berlin:20260821T200000
DTEND;TZID=Europe/Berlin:20260821T233000
DTSTAMP:20260421T212237
CREATED:20260327T162228Z
LAST-MODIFIED:20260327T162228Z
UID:1805-1787342400-1787355000@fivemen.de
SUMMARY:Burgfest Penzlin
DESCRIPTION:Die Band spielt Gitarrenrock überwiegend der 70-ger Jahre. Von reichlich AC/DC\, Deep\nPurple\, van Halen\, Led Zeppelin\, Golden Earring\, Pink Floyd\, Garry Moore bis hin zu\neigenen Songs klingt alles\, wie aus einem Stück geschmiedet\, eben unverkennbar nach\n„five men on the rocks“.\nOb auf großen open- air Veranstaltungen\, bei der Club-Mugge\, oder zu privaten Anlässen\, es\ngibt immer 120%. Davon konnten sich auch im Jahre 2006 Deep Purple überzeugen\, denen\n„five men on the rocks“ als Support „dienen“ durfte.\nBesonders prägend für den Sound der Band ist die Stimme des charismatischen Frontmannes\nJan „Lally“ Gladrow. Mit geschlossenen Augen meint man\, der Sänger der Australischen\nGleichstrom/Wechselstrom- Urgesteine hätte sich für diese Rostocker Band entschieden…\nDie gesamte Show ist aber teamwork und es wird gemeinsam geschwitzt\, gedroschen\,\nexplodiert\, gefühlt\, zelebriert\, Musik gelebt…\n“five men on the rocks “ sind:\nJan Gladrow Gesang\nJohannes Pistor Gitarre\, Gesang\nDietmar Lilienthal Gitarre\nThomas Lehner Bassgitarre\, Gesang\nJan Wüstenberg Schlagzeug
URL:https://fivemen.de/event/burgfest-penzlin/
LOCATION:17217 Alte Burg 1 Penzlin\, Alte Burg 1\, 17217 Penzlin\, Mecklenburg-Vorpommern
ATTACH;FMTTYPE=image/jpeg:https://fivemen.de/wp-content/uploads/2024/08/Img8673-klein-1.jpg
END:VEVENT
END:VCALENDAR