BEGIN:VCALENDAR
VERSION:2.0
PRODID:-//FIVE MEN ON THE ROCKS - ECPv6.15.18//NONSGML v1.0//EN
CALSCALE:GREGORIAN
METHOD:PUBLISH
X-ORIGINAL-URL:https://fivemen.de
X-WR-CALDESC:Veranstaltungen für FIVE MEN ON THE ROCKS
REFRESH-INTERVAL;VALUE=DURATION:PT1H
X-Robots-Tag:noindex
X-PUBLISHED-TTL:PT1H
BEGIN:VTIMEZONE
TZID:Europe/Berlin
BEGIN:DAYLIGHT
TZOFFSETFROM:+0100
TZOFFSETTO:+0200
TZNAME:CEST
DTSTART:20240331T010000
END:DAYLIGHT
BEGIN:STANDARD
TZOFFSETFROM:+0200
TZOFFSETTO:+0100
TZNAME:CET
DTSTART:20241027T010000
END:STANDARD
BEGIN:DAYLIGHT
TZOFFSETFROM:+0100
TZOFFSETTO:+0200
TZNAME:CEST
DTSTART:20250330T010000
END:DAYLIGHT
BEGIN:STANDARD
TZOFFSETFROM:+0200
TZOFFSETTO:+0100
TZNAME:CET
DTSTART:20251026T010000
END:STANDARD
BEGIN:DAYLIGHT
TZOFFSETFROM:+0100
TZOFFSETTO:+0200
TZNAME:CEST
DTSTART:20260329T010000
END:DAYLIGHT
BEGIN:STANDARD
TZOFFSETFROM:+0200
TZOFFSETTO:+0100
TZNAME:CET
DTSTART:20261025T010000
END:STANDARD
END:VTIMEZONE
BEGIN:VEVENT
DTSTART;TZID=Europe/Berlin:20251114T210000
DTEND;TZID=Europe/Berlin:20251114T230000
DTSTAMP:20260422T004419
CREATED:20250411T152928Z
LAST-MODIFIED:20250819T152927Z
UID:1677-1763154000-1763161200@fivemen.de
SUMMARY:Rock im Vielmeer "Five Men & Friends
DESCRIPTION:Die Show ist einmalig in der Zusammensetzung charismatischer Frontleute!\nDie Gäste sind Mareike Schumacher (Biest of Bourbon) und Michael „Grauper“ Gröper (Tricky Lobsters).\nMareike Schumacher ist eine Rampensau erster Güte und beschenkt uns mit ihrer rauchigen Stimme\, ihrer Frauenquote und ihrem\, aus unserer Sicht\, jugendlichen Alter…\nMichael „Grauper“ Gröper ist der Sänger der ersten Stunde bei „Five Men on the Rocks“. Wir sind unglaublich froh\, dass wir an diese Zeit von 1990 mit ihm noch einmal anknüpfen dürfen. Er hat seit dem mit den „Tricky Lobsters“ 10 wirklich tolle Alben produziert und steht dort als Sänger und Gitarrist in der ersten Reihe.\nDazu noch unser Jan „Lally“ Gladrow… Gänsehaut pur\, denn die drei werden durchaus auch Songs gemeinsam zelebrieren.\n „Five Men on the Rocks“ wie man sie noch nie gehört hat\, gibt es in diesem einzigartigen Programm!\nNeben den bekannten Säulen wie AC/DC\, Deep Purple und Led Zeppelin gibt es auch Songs von Adele\, Melissa Etheridge\, Allanah Miles\, Tina Turner\, Journey\, George Harrison und und und…\nWer soll das Feuer nur hinterher löschen ?!
URL:https://fivemen.de/event/rock-im-vielmeer/
LOCATION:Vielmeer Kühlungsborn
ATTACH;FMTTYPE=image/jpeg:https://fivemen.de/wp-content/uploads/2025/04/Five-Men-on-the-Rocks-27-04-2018-02993-Bearbeitet-scaled.jpg
END:VEVENT
END:VCALENDAR