BEGIN:VCALENDAR
VERSION:2.0
PRODID:-//FIVE MEN ON THE ROCKS - ECPv6.15.18//NONSGML v1.0//EN
CALSCALE:GREGORIAN
METHOD:PUBLISH
X-ORIGINAL-URL:https://fivemen.de
X-WR-CALDESC:Veranstaltungen für FIVE MEN ON THE ROCKS
REFRESH-INTERVAL;VALUE=DURATION:PT1H
X-Robots-Tag:noindex
X-PUBLISHED-TTL:PT1H
BEGIN:VTIMEZONE
TZID:Europe/Berlin
BEGIN:DAYLIGHT
TZOFFSETFROM:+0100
TZOFFSETTO:+0200
TZNAME:CEST
DTSTART:20220327T010000
END:DAYLIGHT
BEGIN:STANDARD
TZOFFSETFROM:+0200
TZOFFSETTO:+0100
TZNAME:CET
DTSTART:20221030T010000
END:STANDARD
BEGIN:DAYLIGHT
TZOFFSETFROM:+0100
TZOFFSETTO:+0200
TZNAME:CEST
DTSTART:20230326T010000
END:DAYLIGHT
BEGIN:STANDARD
TZOFFSETFROM:+0200
TZOFFSETTO:+0100
TZNAME:CET
DTSTART:20231029T010000
END:STANDARD
BEGIN:DAYLIGHT
TZOFFSETFROM:+0100
TZOFFSETTO:+0200
TZNAME:CEST
DTSTART:20240331T010000
END:DAYLIGHT
BEGIN:STANDARD
TZOFFSETFROM:+0200
TZOFFSETTO:+0100
TZNAME:CET
DTSTART:20241027T010000
END:STANDARD
END:VTIMEZONE
BEGIN:VEVENT
DTSTART;TZID=Europe/Berlin:20231006T200000
DTEND;TZID=Europe/Berlin:20231006T230000
DTSTAMP:20260426T055316
CREATED:20230110T161629Z
LAST-MODIFIED:20230718T173014Z
UID:1407-1696622400-1696633200@fivemen.de
SUMMARY:Home sweet Home
DESCRIPTION:Die Band spielt  Gitarrenrock überwiegend der 70-ger Jahre. Von reichlich AC/DC\, Deep Purple\, van Halen\, Led Zeppelin\, Golden Earring\, Pink Floyd\, Garry Moore bis hin zu eigenen Songs klingt alles\, wie aus einem Stück geschmiedet\, eben unverkennbar nach\n„five men on the rocks“.\nOb auf großen open- air Veranstaltungen\, bei der Club-Mugge\, oder zu privaten Anlässen\, es gibt immer 120%. Davon konnten sich auch im Jahre 2006 Deep Purple überzeugen\, denen „five men on the rocks“ als Support „dienen“ durfte.\nBesonders prägend für den Sound der Band ist die Stimme des charismatischen Frontmannes Jan „Lally“ Gladrow. Mit geschlossenen Augen meint man\, der Sänger der Australischen Gleichstrom/Wechselstrom- Urgesteine hätte sich für diese Rostocker Band entschieden…\nDie gesamte Show ist aber teamwork und es wird gemeinsam geschwitzt\, gedroschen\, explodiert\, gefühlt\, zelebriert\, Musik gelebt…  \n“five men on the rocks “ sind:    \nJan Gladrow                  Gesang\nJohannes Pistor             Gitarre\, Gesang\nDietmar Lilienthal        Gitarre\nThomas Lehner             Bassgitarre\, Gesang\nJan Wüstenberg             Schlagzeug
URL:https://fivemen.de/event/home-sweet-home/
LOCATION:Ursprung Rostock\, Alter Markt\, Rostock\, 18055\, Deutschland
ATTACH;FMTTYPE=image/jpeg:https://fivemen.de/wp-content/uploads/2023/01/DL_Five-men23-scaled.jpg
END:VEVENT
BEGIN:VEVENT
DTSTART;TZID=Europe/Berlin:20231028T200000
DTEND;TZID=Europe/Berlin:20231028T233000
DTSTAMP:20260426T055316
CREATED:20230213T160213Z
LAST-MODIFIED:20231024T051721Z
UID:1442-1698523200-1698535800@fivemen.de
SUMMARY:Luplow rockt sich den Wolf
DESCRIPTION:Die Band spielt  Gitarrenrock überwiegend der 70-ger Jahre. Von reichlich AC/DC\, Deep Purple\, van Halen\, Led Zeppelin\, Golden Earring\, Pink Floyd\, Garry Moore bis hin zu eigenen Songs klingt alles\, wie aus einem Stück geschmiedet\, eben unverkennbar nach\n„five men on the rocks“.\nOb auf großen open- air Veranstaltungen\, bei der Club-Mugge\, oder zu privaten Anlässen\, es gibt immer 120%. Davon konnten sich auch im Jahre 2006 Deep Purple überzeugen\, denen „five men on the rocks“ als Support „dienen“ durfte.\nBesonders prägend für den Sound der Band ist die Stimme des charismatischen Frontmannes Jan „Lally“ Gladrow. Mit geschlossenen Augen meint man\, der Sänger der Australischen Gleichstrom/Wechselstrom- Urgesteine hätte sich für diese Rostocker Band entschieden…\nDie gesamte Show ist aber teamwork und es wird gemeinsam geschwitzt\, gedroschen\, explodiert\, gefühlt\, zelebriert\, Musik gelebt…  \n“five men on the rocks “ sind:    \nJan Gladrow                  Gesang\nJohannes Pistor             Gitarre\, Gesang\nDietmar Lilienthal         Gitarre\nThomas Lehner             Bassgitarre\, Gesang\nJan Wüstenberg             Schlagzeug
URL:https://fivemen.de/event/luplow-rockt-sich-den-wolf/
LOCATION:Luplow Torhaus Lindenallee
ATTACH;FMTTYPE=image/jpeg:https://fivemen.de/wp-content/uploads/2023/02/DL_Five-men23-scaled.jpg
END:VEVENT
END:VCALENDAR