BEGIN:VCALENDAR
VERSION:2.0
PRODID:-//FIVE MEN ON THE ROCKS - ECPv6.15.18//NONSGML v1.0//EN
CALSCALE:GREGORIAN
METHOD:PUBLISH
X-WR-CALNAME:FIVE MEN ON THE ROCKS
X-ORIGINAL-URL:https://fivemen.de
X-WR-CALDESC:Veranstaltungen für FIVE MEN ON THE ROCKS
REFRESH-INTERVAL;VALUE=DURATION:PT1H
X-Robots-Tag:noindex
X-PUBLISHED-TTL:PT1H
BEGIN:VTIMEZONE
TZID:Europe/Berlin
BEGIN:DAYLIGHT
TZOFFSETFROM:+0100
TZOFFSETTO:+0200
TZNAME:CEST
DTSTART:20250330T010000
END:DAYLIGHT
BEGIN:STANDARD
TZOFFSETFROM:+0200
TZOFFSETTO:+0100
TZNAME:CET
DTSTART:20251026T010000
END:STANDARD
BEGIN:DAYLIGHT
TZOFFSETFROM:+0100
TZOFFSETTO:+0200
TZNAME:CEST
DTSTART:20260329T010000
END:DAYLIGHT
BEGIN:STANDARD
TZOFFSETFROM:+0200
TZOFFSETTO:+0100
TZNAME:CET
DTSTART:20261025T010000
END:STANDARD
BEGIN:DAYLIGHT
TZOFFSETFROM:+0100
TZOFFSETTO:+0200
TZNAME:CEST
DTSTART:20270328T010000
END:DAYLIGHT
BEGIN:STANDARD
TZOFFSETFROM:+0200
TZOFFSETTO:+0100
TZNAME:CET
DTSTART:20271031T010000
END:STANDARD
END:VTIMEZONE
BEGIN:VEVENT
DTSTART;TZID=Europe/Berlin:20261024T200000
DTEND;TZID=Europe/Berlin:20261024T230000
DTSTAMP:20260422T055123
CREATED:20260327T162744Z
LAST-MODIFIED:20260327T162744Z
UID:1808-1792872000-1792882800@fivemen.de
SUMMARY:Rocktails
DESCRIPTION:ROCKTAILS – GREATEST MUSIC ON TOUR Mit Bad Penny\, Five Men On The Rocks\, Jackbeat & Max Zeug werden Giganten der Musikgeschichte gehuldigt. Der Rocktail ist gut geschüttelt und gerührt – mit Songs von Neil Young\, Bob Dylan\, Led Zeppelin\, Deep Purple\, AC/DC\, The Beatles\, Bruce Springsteen\, und den\nRolling Stones.
URL:https://fivemen.de/event/rocktails-6/
LOCATION:Stadthalle Rostock\, Südring\, 18059 Rostock
ATTACH;FMTTYPE=image/jpeg:https://fivemen.de/wp-content/uploads/2025/11/Rocktails-klein.jpg
END:VEVENT
END:VCALENDAR