BEGIN:VCALENDAR
VERSION:2.0
PRODID:-//FIVE MEN ON THE ROCKS - ECPv6.15.18//NONSGML v1.0//EN
CALSCALE:GREGORIAN
METHOD:PUBLISH
X-ORIGINAL-URL:https://fivemen.de
X-WR-CALDESC:Veranstaltungen für FIVE MEN ON THE ROCKS
REFRESH-INTERVAL;VALUE=DURATION:PT1H
X-Robots-Tag:noindex
X-PUBLISHED-TTL:PT1H
BEGIN:VTIMEZONE
TZID:Europe/Berlin
BEGIN:DAYLIGHT
TZOFFSETFROM:+0100
TZOFFSETTO:+0200
TZNAME:CEST
DTSTART:20230326T010000
END:DAYLIGHT
BEGIN:STANDARD
TZOFFSETFROM:+0200
TZOFFSETTO:+0100
TZNAME:CET
DTSTART:20231029T010000
END:STANDARD
BEGIN:DAYLIGHT
TZOFFSETFROM:+0100
TZOFFSETTO:+0200
TZNAME:CEST
DTSTART:20240331T010000
END:DAYLIGHT
BEGIN:STANDARD
TZOFFSETFROM:+0200
TZOFFSETTO:+0100
TZNAME:CET
DTSTART:20241027T010000
END:STANDARD
BEGIN:DAYLIGHT
TZOFFSETFROM:+0100
TZOFFSETTO:+0200
TZNAME:CEST
DTSTART:20250330T010000
END:DAYLIGHT
BEGIN:STANDARD
TZOFFSETFROM:+0200
TZOFFSETTO:+0100
TZNAME:CET
DTSTART:20251026T010000
END:STANDARD
END:VTIMEZONE
BEGIN:VEVENT
DTSTART;TZID=Europe/Berlin:20241026T200000
DTEND;TZID=Europe/Berlin:20241026T233000
DTSTAMP:20260423T193635
CREATED:20240102T182730Z
LAST-MODIFIED:20240102T182730Z
UID:1548-1729972800-1729985400@fivemen.de
SUMMARY:Grebs rockt!
DESCRIPTION:Die Band spielt  Gitarrenrock überwiegend der 70-ger Jahre. Von reichlich AC/DC\, Deep Purple\, van Halen\, Led Zeppelin\, Golden Earring\, Pink Floyd\, Garry Moore bis hin zu eigenen Songs klingt alles\, wie aus einem Stück geschmiedet\, eben unverkennbar nach\n„five men on the rocks“.\nOb auf großen open- air Veranstaltungen\, bei der Club-Mugge\, oder zu privaten Anlässen\, es gibt immer 120%. Davon konnten sich auch im Jahre 2006 Deep Purple überzeugen\, denen „five men on the rocks“ als Support „dienen“ durfte.\nBesonders prägend für den Sound der Band ist die Stimme des charismatischen Frontmannes Jan „Lally“ Gladrow. Mit geschlossenen Augen meint man\, der Sänger der Australischen Gleichstrom/Wechselstrom- Urgesteine hätte sich für diese Rostocker Band entschieden…\nDie gesamte Show ist aber teamwork und es wird gemeinsam geschwitzt\, gedroschen\, explodiert\, gefühlt\, zelebriert\, Musik gelebt…
URL:https://fivemen.de/event/grebs-rockt/
LOCATION:The village\, Lindenstraße 38\, Grebs\, Deutschland
ATTACH;FMTTYPE=image/jpeg:https://fivemen.de/wp-content/uploads/2023/01/DL_Five-men23-scaled.jpg
END:VEVENT
END:VCALENDAR