BEGIN:VCALENDAR
VERSION:2.0
PRODID:-//FIVE MEN ON THE ROCKS - ECPv6.15.18//NONSGML v1.0//EN
CALSCALE:GREGORIAN
METHOD:PUBLISH
X-ORIGINAL-URL:https://fivemen.de
X-WR-CALDESC:Veranstaltungen für FIVE MEN ON THE ROCKS
REFRESH-INTERVAL;VALUE=DURATION:PT1H
X-Robots-Tag:noindex
X-PUBLISHED-TTL:PT1H
BEGIN:VTIMEZONE
TZID:Europe/Berlin
BEGIN:DAYLIGHT
TZOFFSETFROM:+0100
TZOFFSETTO:+0200
TZNAME:CEST
DTSTART:20230326T010000
END:DAYLIGHT
BEGIN:STANDARD
TZOFFSETFROM:+0200
TZOFFSETTO:+0100
TZNAME:CET
DTSTART:20231029T010000
END:STANDARD
BEGIN:DAYLIGHT
TZOFFSETFROM:+0100
TZOFFSETTO:+0200
TZNAME:CEST
DTSTART:20240331T010000
END:DAYLIGHT
BEGIN:STANDARD
TZOFFSETFROM:+0200
TZOFFSETTO:+0100
TZNAME:CET
DTSTART:20241027T010000
END:STANDARD
BEGIN:DAYLIGHT
TZOFFSETFROM:+0100
TZOFFSETTO:+0200
TZNAME:CEST
DTSTART:20250330T010000
END:DAYLIGHT
BEGIN:STANDARD
TZOFFSETFROM:+0200
TZOFFSETTO:+0100
TZNAME:CET
DTSTART:20251026T010000
END:STANDARD
END:VTIMEZONE
BEGIN:VEVENT
DTSTART;TZID=Europe/Berlin:20240615T190000
DTEND;TZID=Europe/Berlin:20240615T233000
DTSTAMP:20260425T194531
CREATED:20240524T100023Z
LAST-MODIFIED:20240524T100138Z
UID:1590-1718478000-1718494200@fivemen.de
SUMMARY:Rostock tanzt
DESCRIPTION:🎉 Am 15. Juni um 19 Uhr ist es soweit: Die Eröffnungsparty „Rostock tanzt“ in der Kunsthalle Rostock steht an! 🕺🎶 Schwing dich in dein Lieblingsoutfit der 60er/70er mit geiler Mugge von Struppi und Five Men on the Rocks. 🌟 In der Kunsthalle Rostock erwarten dich ab dem 15. Juni Einblicke in die legendäre Zeit der Tanzlokale und Diskotheken der ehemaligen DDR in Rostock. 🕺💃🎶 Lass dich von der Freiheit und Unbeschwertheit vergangener Tage mitreißen. Große Party garantiert mit Drinks & Grill!💃🕺🎶 Tickets: https://ticketing07.cld.ondemand.com/shop/15/link/event/20703
URL:https://fivemen.de/event/rostock-tanzt/
LOCATION:Kunsthalle Rostock
ATTACH;FMTTYPE=image/jpeg:https://fivemen.de/wp-content/uploads/2024/05/KHR_FB_Rostock-tanzt.jpg
END:VEVENT
END:VCALENDAR