BEGIN:VCALENDAR
VERSION:2.0
PRODID:-//FIVE MEN ON THE ROCKS - ECPv6.15.18//NONSGML v1.0//EN
CALSCALE:GREGORIAN
METHOD:PUBLISH
X-WR-CALNAME:FIVE MEN ON THE ROCKS
X-ORIGINAL-URL:https://fivemen.de
X-WR-CALDESC:Veranstaltungen für FIVE MEN ON THE ROCKS
REFRESH-INTERVAL;VALUE=DURATION:PT1H
X-Robots-Tag:noindex
X-PUBLISHED-TTL:PT1H
BEGIN:VTIMEZONE
TZID:Europe/Berlin
BEGIN:DAYLIGHT
TZOFFSETFROM:+0100
TZOFFSETTO:+0200
TZNAME:CEST
DTSTART:20230326T010000
END:DAYLIGHT
BEGIN:STANDARD
TZOFFSETFROM:+0200
TZOFFSETTO:+0100
TZNAME:CET
DTSTART:20231029T010000
END:STANDARD
BEGIN:DAYLIGHT
TZOFFSETFROM:+0100
TZOFFSETTO:+0200
TZNAME:CEST
DTSTART:20240331T010000
END:DAYLIGHT
BEGIN:STANDARD
TZOFFSETFROM:+0200
TZOFFSETTO:+0100
TZNAME:CET
DTSTART:20241027T010000
END:STANDARD
BEGIN:DAYLIGHT
TZOFFSETFROM:+0100
TZOFFSETTO:+0200
TZNAME:CEST
DTSTART:20250330T010000
END:DAYLIGHT
BEGIN:STANDARD
TZOFFSETFROM:+0200
TZOFFSETTO:+0100
TZNAME:CET
DTSTART:20251026T010000
END:STANDARD
END:VTIMEZONE
BEGIN:VEVENT
DTSTART;TZID=Europe/Berlin:20240302T200000
DTEND;TZID=Europe/Berlin:20240302T230000
DTSTAMP:20260426T002412
CREATED:20231124T191732Z
LAST-MODIFIED:20240112T140758Z
UID:1521-1709409600-1709420400@fivemen.de
SUMMARY:Rocktails - 1. Doberaner Rocknacht
DESCRIPTION:Five Men\, Jackbeat & Bad Penny\nbest covers of the best: Deep Purple\, Led Zeppelin\, AC/DC\, Rolling Stones\, The Beatles\, The Kinks\, Bruce Springsteen\nTickets: Kamp Restaurant\, Schlemmer-Eck\, Tourismuszentrale\, oder www.badpenny.de\n         https://www.eventim-light.com/de/a/5cfcefa198c4210001741447/s/65561829a308606942fbf7c4
URL:https://fivemen.de/event/rocktails-1-doberaner-rocknacht/
LOCATION:Kamptheater Severinstraße 18209 Bad Doberan\, Severinstraße 4\, 18236 Bad Doberan\, M/V\, Deutschland
ATTACH;FMTTYPE=image/jpeg:https://fivemen.de/wp-content/uploads/2023/11/WhatsApp-Image-2023-11-24-at-10.11.09-e1706191438361.jpeg
END:VEVENT
END:VCALENDAR